BEGIN:VCALENDAR
VERSION:2.0
PRODID:-//ACHM - ECPv3.9.1//NONSGML v1.0//EN
CALSCALE:GREGORIAN
METHOD:PUBLISH
X-WR-CALNAME:ACHM
X-ORIGINAL-URL:https://www.achm.mc
X-WR-CALDESC:Events for ACHM
BEGIN:VEVENT
DTSTART;VALUE=DATE-TIME:20170316T190000
DTEND;VALUE=DATE-TIME:20170316T210000
DTSTAMP:20260423T234628
CREATED:20170315T180302
LAST-MODIFIED:20170315T180502
UID:4435-1489690800-1489698000@https://www.achm.mc
SUMMARY:Soirée-réception du C.R.E.M
DESCRIPTION:Réception sur invitation du Club des Résidents Etrangers de Monaco
URL:https://www.achm.mc/calendrier/soiree-reception-du-c-r-e-m/
LOCATION:Monaco
CATEGORIES:Invitation Réception
END:VEVENT
END:VCALENDAR