BEGIN:VCALENDAR
VERSION:2.0
PRODID:-//ACHM - ECPv3.9.1//NONSGML v1.0//EN
CALSCALE:GREGORIAN
METHOD:PUBLISH
X-WR-CALNAME:ACHM
X-ORIGINAL-URL:https://www.achm.mc
X-WR-CALDESC:Events for ACHM
BEGIN:VEVENT
DTSTART;VALUE=DATE-TIME:20170109T200000
DTEND;VALUE=DATE-TIME:20170109T220000
DTSTAMP:20260424T022258
CREATED:20170109T092335
LAST-MODIFIED:20170109T092335
UID:4322-1483992000-1483999200@https://www.achm.mc
SUMMARY:Soirée culturelle du Kazakhstan
DESCRIPTION:Sur invitation de l'Ambassade du Kazakhstan en Principauté de Monaco et du Consul Général honoraire du Kazakhstan à Monaco
URL:https://www.achm.mc/calendrier/soiree-culturelle-du-kazakhstan/
LOCATION:Monaco, Monaco
CATEGORIES:Invitation Réception
END:VEVENT
END:VCALENDAR