BEGIN:VCALENDAR
VERSION:2.0
PRODID:-//ACHM - ECPv3.9.1//NONSGML v1.0//EN
CALSCALE:GREGORIAN
METHOD:PUBLISH
X-WR-CALNAME:ACHM
X-ORIGINAL-URL:https://www.achm.mc
X-WR-CALDESC:Events for ACHM
BEGIN:VEVENT
DTSTART;VALUE=DATE-TIME:20160708T121500
DTEND;VALUE=DATE-TIME:20160708T150000
DTSTAMP:20260424T110530
CREATED:20160415T161530
LAST-MODIFIED:20160429T153153
UID:3709-1467980100-1467990000@https://www.achm.mc
SUMMARY:Conférence en l'Honneur du "Quartet" tunisien
DESCRIPTION:Sur invitation du Consulat Honoraire de Tunisie à Monaco
URL:https://www.achm.mc/calendrier/conference-en-lhonneur-du-quartet-tunisien/
LOCATION:Monaco
CATEGORIES:Conférence-discussion-débat,Invitation Réception
END:VEVENT
END:VCALENDAR