BEGIN:VCALENDAR
VERSION:2.0
PRODID:-//ACHM - ECPv3.9.1//NONSGML v1.0//EN
CALSCALE:GREGORIAN
METHOD:PUBLISH
X-WR-CALNAME:ACHM
X-ORIGINAL-URL:https://www.achm.mc
X-WR-CALDESC:Events for ACHM
BEGIN:VEVENT
DTSTART;VALUE=DATE-TIME:20190425T190000
DTEND;VALUE=DATE-TIME:20190425T210000
DTSTAMP:20260420T090341
CREATED:20190311T160301
LAST-MODIFIED:20190311T160301
UID:6367-1556218800-1556226000@https://www.achm.mc
SUMMARY:Fête nationale des Pays-Bas
DESCRIPTION:Uniquement sur invitation du Consulat Général Honoraire des Pays-Bas
URL:https://www.achm.mc/calendrier/fete-nationale-des-pays-bas/
LOCATION:Monaco, 98000, Monaco
CATEGORIES:Fête Nationale
END:VEVENT
END:VCALENDAR