BEGIN:VCALENDAR
VERSION:2.0
PRODID:-//ACHM - ECPv3.9.1//NONSGML v1.0//EN
CALSCALE:GREGORIAN
METHOD:PUBLISH
X-WR-CALNAME:ACHM
X-ORIGINAL-URL:https://www.achm.mc
X-WR-CALDESC:Events for ACHM
BEGIN:VEVENT
DTSTART;VALUE=DATE-TIME:20170701T190000
DTEND;VALUE=DATE-TIME:20170701T220000
DTSTAMP:20260421T174351
CREATED:20170703T111635
LAST-MODIFIED:20170703T111635
UID:4826-1498935600-1498946400@https://www.achm.mc
SUMMARY:150ème anniversaire de la Confédération du Canada
DESCRIPTION:Sur invitation du Consulat Honoraire du Canada à Monaco et de l'Association "Canadian Club of Monaco".
URL:https://www.achm.mc/calendrier/150eme-anniversaire-de-la-confederation-du-canada/
LOCATION:Monaco, Monaco
CATEGORIES:Fête Nationale,Invitation Réception
END:VEVENT
END:VCALENDAR