BEGIN:VCALENDAR
VERSION:2.0
PRODID:-//ACHM - ECPv3.9.1//NONSGML v1.0//EN
CALSCALE:GREGORIAN
METHOD:PUBLISH
X-WR-CALNAME:ACHM
X-ORIGINAL-URL:https://www.achm.mc
X-WR-CALDESC:Events for ACHM
BEGIN:VEVENT
DTSTART;VALUE=DATE-TIME:20170427T190000
DTEND;VALUE=DATE-TIME:20170427T210000
DTSTAMP:20260421T221729
CREATED:20170317T115756
LAST-MODIFIED:20170317T115756
UID:4438-1493319600-1493326800@https://www.achm.mc
SUMMARY:Réception Fête du Roi des Pays-Bas
DESCRIPTION:Sur invitation du Consulat Général Honoraire des Pays-Bas
URL:https://www.achm.mc/calendrier/reception-fete-du-roi-des-pays-bas/
LOCATION:Monaco, 98000, Monaco
CATEGORIES:Fête Nationale
END:VEVENT
END:VCALENDAR