BEGIN:VCALENDAR
VERSION:2.0
PRODID:-//ACHM - ECPv3.9.1//NONSGML v1.0//EN
CALSCALE:GREGORIAN
METHOD:PUBLISH
X-WR-CALNAME:ACHM
X-ORIGINAL-URL:https://www.achm.mc
X-WR-CALDESC:Events for ACHM
BEGIN:VEVENT
DTSTART;VALUE=DATE-TIME:20161206T190000
DTEND;VALUE=DATE-TIME:20161206T213000
DTSTAMP:20260422T044925
CREATED:20161108T180749
LAST-MODIFIED:20161108T180915
UID:4155-1481050800-1481059800@https://www.achm.mc
SUMMARY:25ème anniversaire de l'Indépendance du Kazakhstan
DESCRIPTION:Sur invitation du Consulat Général Honoraire du Kazakhstan
URL:https://www.achm.mc/calendrier/25eme-anniversaire-de-lindependance-du-kazakhstan/
LOCATION:Monaco, 98000, Monaco
CATEGORIES:Fête Nationale,Invitation Réception
END:VEVENT
END:VCALENDAR