BEGIN:VCALENDAR
VERSION:2.0
PRODID:-//ACHM - ECPv3.9.1//NONSGML v1.0//EN
CALSCALE:GREGORIAN
METHOD:PUBLISH
X-WR-CALNAME:ACHM
X-ORIGINAL-URL:https://www.achm.mc
X-WR-CALDESC:Events for ACHM
BEGIN:VEVENT
DTSTART;VALUE=DATE-TIME:20161119T103000
DTEND;VALUE=DATE-TIME:20161119T113000
DTSTAMP:20260422T062606
CREATED:20161108T200857
LAST-MODIFIED:20161108T200857
UID:4161-1479551400-1479555000@https://www.achm.mc
SUMMARY:Fête Nationale 2016 - Te Deum
DESCRIPTION:Sur invitation du Gouvernement Princier
URL:https://www.achm.mc/calendrier/fete-nationale-2016-te-deum/
LOCATION:Monaco, Monaco
CATEGORIES:Fête Nationale
END:VEVENT
BEGIN:VEVENT
DTSTART;VALUE=DATE-TIME:20161119T113000
DTEND;VALUE=DATE-TIME:20161119T123000
DTSTAMP:20260422T062606
CREATED:20161108T201558
LAST-MODIFIED:20161108T201558
UID:4164-1479555000-1479558600@https://www.achm.mc
SUMMARY:Fête nationale monégasque 2016 - Prise d'Armes
DESCRIPTION:
URL:https://www.achm.mc/calendrier/fete-nationale-monegasque-2016-prise-darmes/
LOCATION:Monaco, Monaco
CATEGORIES:Fête Nationale
END:VEVENT
BEGIN:VEVENT
DTSTART;VALUE=DATE-TIME:20161119T200000
DTEND;VALUE=DATE-TIME:20161119T230000
DTSTAMP:20260422T062606
CREATED:20161108T201741
LAST-MODIFIED:20161108T201930
UID:4165-1479585600-1479596400@https://www.achm.mc
SUMMARY:Fête nationale monégasque 2016 - Soirée de Gala
DESCRIPTION:Sur invitation du Chambellan du Prince Souverain
URL:https://www.achm.mc/calendrier/fete-nationale-monegasque-2016-soiree-de-gala/
LOCATION:Monaco, Monaco
CATEGORIES:Fête Nationale
END:VEVENT
END:VCALENDAR