BEGIN:VCALENDAR
VERSION:2.0
PRODID:-//ACHM - ECPv3.9.1//NONSGML v1.0//EN
CALSCALE:GREGORIAN
METHOD:PUBLISH
X-WR-CALNAME:ACHM
X-ORIGINAL-URL:https://www.achm.mc
X-WR-CALDESC:Events for ACHM
BEGIN:VEVENT
DTSTART;VALUE=DATE-TIME:20161118T130000
DTEND;VALUE=DATE-TIME:20161118T143000
DTSTAMP:20260422T062616
CREATED:20161108T200048
LAST-MODIFIED:20161108T200641
UID:4157-1479474000-1479479400@https://www.achm.mc
SUMMARY:Déjeuner 2016 du Corps Diplomatique et Consulaire en Principauté de Monaco
DESCRIPTION:Sur invitation de S.E. Mme l'Ambassadeur de France à Monaco
URL:https://www.achm.mc/calendrier/dejeuner-du-corps-diplomatique-et-consulaire-en-principaute-de-monaco/
LOCATION:Monaco, Monaco
CATEGORIES:Fête Nationale,Invitation Réception
END:VEVENT
BEGIN:VEVENT
DTSTART;VALUE=DATE-TIME:20161118T190000
DTEND;VALUE=DATE-TIME:20161118T210000
DTSTAMP:20260422T062616
CREATED:20161108T200528
LAST-MODIFIED:20161108T201430
UID:4158-1479495600-1479502800@https://www.achm.mc
SUMMARY:Réception 2016 en l'Honneur du Corps Diplomatique et Consulaire en Principauté de Monaco
DESCRIPTION:Sur invitation du Chambellan du Prince Souverain
URL:https://www.achm.mc/calendrier/reception-2016-en-lhonneur-du-corps-diplomatique-et-consulaire-en-principaute-de-monaco/
LOCATION:Monaco, Monaco
CATEGORIES:Fête Nationale,Invitation Réception
END:VEVENT
BEGIN:VEVENT
DTSTART;VALUE=DATE-TIME:20161118T210000
DTEND;VALUE=DATE-TIME:20161118T233000
DTSTAMP:20260422T062616
CREATED:20161108T201348
LAST-MODIFIED:20161108T201348
UID:4163-1479502800-1479511800@https://www.achm.mc
SUMMARY:Cocktail-Dînatoire 2016 du Corps Consulaire de Monaco et à Monaco
DESCRIPTION:sur invitation de la Direction Diplomatique et Consulaire
URL:https://www.achm.mc/calendrier/cocktail-dinatoire-2016-du-corps-consulaire-de-monaco-et-a-monaco/
LOCATION:Monaco, 98000, Monaco
CATEGORIES:Fête Nationale,Invitation Réception
END:VEVENT
END:VCALENDAR