BEGIN:VCALENDAR
VERSION:2.0
PRODID:-//ACHM - ECPv3.9.1//NONSGML v1.0//EN
CALSCALE:GREGORIAN
METHOD:PUBLISH
X-WR-CALNAME:ACHM
X-ORIGINAL-URL:https://www.achm.mc
X-WR-CALDESC:Events for ACHM
BEGIN:VEVENT
DTSTART;VALUE=DATE-TIME:20151123T183000
DTEND;VALUE=DATE-TIME:20151123T204500
DTSTAMP:20260423T004352
CREATED:20151104T094857
LAST-MODIFIED:20151104T094959
UID:3473-1448303400-1448311500@https://www.achm.mc
SUMMARY:Réception en l'honneur de la Fête nationale du Liban
DESCRIPTION:Sur invitation du Consul Honoraire du Liban
URL:https://www.achm.mc/calendrier/reception-en-lhonneur-de-la-fete-nationale-du-liban/
LOCATION:Avenue St Martin, Monaco, Monaco
CATEGORIES:Fête Nationale
END:VEVENT
END:VCALENDAR