BEGIN:VCALENDAR
VERSION:2.0
PRODID:-//ACHM - ECPv3.9.1//NONSGML v1.0//EN
CALSCALE:GREGORIAN
METHOD:PUBLISH
X-WR-CALNAME:ACHM
X-ORIGINAL-URL:https://www.achm.mc
X-WR-CALDESC:Events for ACHM
BEGIN:VEVENT
DTSTART;VALUE=DATE-TIME:20150714T190000
DTEND;VALUE=DATE-TIME:20150714T210000
DTSTAMP:20260423T065119
CREATED:20150710T155441
LAST-MODIFIED:20150710T155441
UID:3249-1436900400-1436907600@https://www.achm.mc
SUMMARY:Fête nationale française
DESCRIPTION:Sur invitation
URL:https://www.achm.mc/calendrier/fete-nationale-francaise/
LOCATION:Monaco, Monaco
CATEGORIES:Fête Nationale
END:VEVENT
END:VCALENDAR