BEGIN:VCALENDAR
VERSION:2.0
PRODID:-//ACHM - ECPv3.9.1//NONSGML v1.0//EN
CALSCALE:GREGORIAN
METHOD:PUBLISH
X-WR-CALNAME:ACHM
X-ORIGINAL-URL:https://www.achm.mc
X-WR-CALDESC:Events for ACHM
BEGIN:VEVENT
DTSTART;VALUE=DATE-TIME:20150612T183000
DTEND;VALUE=DATE-TIME:20150612T203000
DTSTAMP:20260423T082306
CREATED:20150602T165813
LAST-MODIFIED:20150602T165915
UID:3114-1434133800-1434141000@https://www.achm.mc
SUMMARY:Fête National Russe
DESCRIPTION:Sur invitation.
URL:https://www.achm.mc/calendrier/fete-national-russe/
LOCATION:Avenue St Martin, Monaco, Monaco
CATEGORIES:Fête Nationale
END:VEVENT
END:VCALENDAR