BEGIN:VCALENDAR
VERSION:2.0
PRODID:-//ACHM - ECPv3.9.1//NONSGML v1.0//EN
CALSCALE:GREGORIAN
METHOD:PUBLISH
X-WR-CALNAME:ACHM
X-ORIGINAL-URL:https://www.achm.mc
X-WR-CALDESC:Events for ACHM
BEGIN:VEVENT
DTSTART;VALUE=DATE-TIME:20150606T183000
DTEND;VALUE=DATE-TIME:20150606T210000
DTSTAMP:20260423T082142
CREATED:20150511T145057
LAST-MODIFIED:20150511T145554
UID:2828-1433615400-1433624400@https://www.achm.mc
SUMMARY:Fête Nationale Suèdoise
DESCRIPTION:Sur invitation.
URL:https://www.achm.mc/calendrier/fete-nationale-suedoise/
LOCATION:11 Bd de Suisse, Monaco, Monaco
CATEGORIES:Fête Nationale
END:VEVENT
END:VCALENDAR